BEGIN:VCALENDAR
VERSION:2.0
PRODID:-//eventon.com NONSGML v1.0//EN
CALSCALE:GREGORIAN
METHOD:PUBLISH
BEGIN:VEVENT
UID:69e7375612b78
DTSTAMP:20260421T083742Z
DTSTART:20230911
DTEND:20230912
LOCATION:Lexington\,  KY
SUMMARY:Keeneland September Yearling Sale
DESCRIPTION:\nhttps://nationalhbpa.com/events/keeneland-september-yearling-
 sale-2/
URL:https://nationalhbpa.com/events/keeneland-september-yearling-sale-2/
END:VEVENT
END:VCALENDAR