BEGIN:VCALENDAR
VERSION:2.0
PRODID:-//eventon.com NONSGML v1.0//EN
CALSCALE:GREGORIAN
METHOD:PUBLISH
BEGIN:VEVENT
UID:69e73a7c47d54
DTSTAMP:20260421T085108Z
DTSTART:20231028
DTEND:20231029
LOCATION:
SUMMARY:Closing Day of Keeneland Fall Meet
DESCRIPTION:\nhttps://nationalhbpa.com/events/closing-day-of-keeneland-fall
 -meet/
URL:https://nationalhbpa.com/events/closing-day-of-keeneland-fall-meet/
END:VEVENT
END:VCALENDAR